BEGIN:VCALENDAR
VERSION:2.0
PRODID:-//IglesiadelaTrinidad.com - ECPv6.15.20//NONSGML v1.0//EN
CALSCALE:GREGORIAN
METHOD:PUBLISH
X-ORIGINAL-URL:https://iglesiadelatrinidad.com
X-WR-CALDESC:Events for IglesiadelaTrinidad.com
REFRESH-INTERVAL;VALUE=DURATION:PT1H
X-Robots-Tag:noindex
X-PUBLISHED-TTL:PT1H
BEGIN:VTIMEZONE
TZID:America/New_York
BEGIN:DAYLIGHT
TZOFFSETFROM:-0500
TZOFFSETTO:-0400
TZNAME:EDT
DTSTART:20250309T070000
END:DAYLIGHT
BEGIN:STANDARD
TZOFFSETFROM:-0400
TZOFFSETTO:-0500
TZNAME:EST
DTSTART:20251102T060000
END:STANDARD
BEGIN:DAYLIGHT
TZOFFSETFROM:-0500
TZOFFSETTO:-0400
TZNAME:EDT
DTSTART:20260308T070000
END:DAYLIGHT
BEGIN:STANDARD
TZOFFSETFROM:-0400
TZOFFSETTO:-0500
TZNAME:EST
DTSTART:20261101T060000
END:STANDARD
BEGIN:DAYLIGHT
TZOFFSETFROM:-0500
TZOFFSETTO:-0400
TZNAME:EDT
DTSTART:20270314T070000
END:DAYLIGHT
BEGIN:STANDARD
TZOFFSETFROM:-0400
TZOFFSETTO:-0500
TZNAME:EST
DTSTART:20271107T060000
END:STANDARD
END:VTIMEZONE
BEGIN:VEVENT
DTSTART;TZID=America/New_York:20260522T200000
DTEND;TZID=America/New_York:20260523T080000
DTSTAMP:20260422T190705
CREATED:20260125T144233Z
LAST-MODIFIED:20260125T144233Z
UID:5760-1779480000-1779523200@iglesiadelatrinidad.com
SUMMARY:Retiro de Matrimonios
DESCRIPTION:
URL:https://iglesiadelatrinidad.com/event/retiro-de-matrimonios/
LOCATION:Iglesia de la Trinidad\, 3520 SW 97th Ave\, Miami\, FL\, 33165\, United States
ATTACH;FMTTYPE=image/jpeg:https://iglesiadelatrinidad.com/wp-content/uploads/2026/01/WhatsApp-Image-2026-01-23-at-12.36.50-PM.jpeg
ORGANIZER;CN="Carlos Gonzalez":MAILTO:pastor@iglesiadelatrinidad.com
END:VEVENT
END:VCALENDAR