BEGIN:VCALENDAR
VERSION:2.0
PRODID:-//IglesiadelaTrinidad.com - ECPv6.15.20//NONSGML v1.0//EN
CALSCALE:GREGORIAN
METHOD:PUBLISH
X-ORIGINAL-URL:https://iglesiadelatrinidad.com
X-WR-CALDESC:Events for IglesiadelaTrinidad.com
REFRESH-INTERVAL;VALUE=DURATION:PT1H
X-Robots-Tag:noindex
X-PUBLISHED-TTL:PT1H
BEGIN:VTIMEZONE
TZID:America/New_York
BEGIN:DAYLIGHT
TZOFFSETFROM:-0500
TZOFFSETTO:-0400
TZNAME:EDT
DTSTART:20250309T070000
END:DAYLIGHT
BEGIN:STANDARD
TZOFFSETFROM:-0400
TZOFFSETTO:-0500
TZNAME:EST
DTSTART:20251102T060000
END:STANDARD
BEGIN:DAYLIGHT
TZOFFSETFROM:-0500
TZOFFSETTO:-0400
TZNAME:EDT
DTSTART:20260308T070000
END:DAYLIGHT
BEGIN:STANDARD
TZOFFSETFROM:-0400
TZOFFSETTO:-0500
TZNAME:EST
DTSTART:20261101T060000
END:STANDARD
BEGIN:DAYLIGHT
TZOFFSETFROM:-0500
TZOFFSETTO:-0400
TZNAME:EDT
DTSTART:20270314T070000
END:DAYLIGHT
BEGIN:STANDARD
TZOFFSETFROM:-0400
TZOFFSETTO:-0500
TZNAME:EST
DTSTART:20271107T060000
END:STANDARD
END:VTIMEZONE
BEGIN:VEVENT
DTSTART;VALUE=DATE:20260509
DTEND;VALUE=DATE:20260510
DTSTAMP:20260422T170120
CREATED:20260412T135141Z
LAST-MODIFIED:20260412T135141Z
UID:5956-1778284800-1778371199@iglesiadelatrinidad.com
SUMMARY:Reunión de Perlas Preciosas
DESCRIPTION:
URL:https://iglesiadelatrinidad.com/event/reunion-de-perlas-preciosas/
LOCATION:Iglesia de la Trinidad\, 3520 SW 97th Ave\, Miami\, FL\, 33165\, United States
ATTACH;FMTTYPE=image/jpeg:https://iglesiadelatrinidad.com/wp-content/uploads/2026/04/WhatsApp-Image-2026-04-07-at-3.30.12-PM.jpeg
ORGANIZER;CN="Carlos Gonzalez":MAILTO:pastor@iglesiadelatrinidad.com
END:VEVENT
END:VCALENDAR